﻿BEGIN:VCALENDAR
VERSION:2.0
PRODID:-//SV-Gebelzig - ECPv5.3.1.1//NONSGML v1.0//EN
CALSCALE:GREGORIAN
METHOD:PUBLISH
X-WR-CALNAME:SV-Gebelzig
X-ORIGINAL-URL:https://sv-gebelzig.de
X-WR-CALDESC:Veranstaltungen für SV-Gebelzig
BEGIN:VTIMEZONE
TZID:UTC
BEGIN:STANDARD
TZOFFSETFROM:+0000
TZOFFSETTO:+0000
TZNAME:UTC
DTSTART:20200101T000000
END:STANDARD
END:VTIMEZONE
BEGIN:VEVENT
DTSTART;TZID=UTC:20200209T090000
DTEND;TZID=UTC:20200209T160000
DTSTAMP:20260422T104416
CREATED:20191204T141728Z
LAST-MODIFIED:20191204T141728Z
UID:1485-1581238800-1581264000@sv-gebelzig.de
SUMMARY:E-Jugend Budenzauber
DESCRIPTION:
URL:https://sv-gebelzig.de/index.php/event/e-jugend-budenzauber/
LOCATION:Sporthalle Bahnhofstraße\, Bahnhofstraße 2a\, Niesky\, 026906\, Deutschland
END:VEVENT
BEGIN:VEVENT
DTSTART;TZID=UTC:20200209T150000
DTEND;TZID=UTC:20200209T190000
DTSTAMP:20260422T104416
CREATED:20191204T141815Z
LAST-MODIFIED:20191204T141815Z
UID:1487-1581260400-1581274800@sv-gebelzig.de
SUMMARY:C-Jugend Budenzauber
DESCRIPTION:
URL:https://sv-gebelzig.de/index.php/event/c-jugend-budenzauber/
LOCATION:Sporthalle Bahnhofstraße\, Bahnhofstraße 2a\, Niesky\, 026906\, Deutschland
END:VEVENT
END:VCALENDAR