﻿BEGIN:VCALENDAR
VERSION:2.0
PRODID:-//SV-Gebelzig - ECPv5.3.1.1//NONSGML v1.0//EN
CALSCALE:GREGORIAN
METHOD:PUBLISH
X-WR-CALNAME:SV-Gebelzig
X-ORIGINAL-URL:https://sv-gebelzig.de
X-WR-CALDESC:Veranstaltungen für SV-Gebelzig
BEGIN:VTIMEZONE
TZID:UTC
BEGIN:STANDARD
TZOFFSETFROM:+0000
TZOFFSETTO:+0000
TZNAME:UTC
DTSTART:20200101T000000
END:STANDARD
END:VTIMEZONE
BEGIN:VEVENT
DTSTART;TZID=UTC:20200208T090000
DTEND;TZID=UTC:20200208T140000
DTSTAMP:20260422T103510
CREATED:20191204T141607Z
LAST-MODIFIED:20191204T141607Z
UID:1480-1581152400-1581170400@sv-gebelzig.de
SUMMARY:F-Jugend Budenzauber
DESCRIPTION:
URL:https://sv-gebelzig.de/index.php/event/f-jugend-budenzauber/
LOCATION:Sporthalle Bahnhofstraße\, Bahnhofstraße 2a\, Niesky\, 026906\, Deutschland
END:VEVENT
BEGIN:VEVENT
DTSTART;TZID=UTC:20200208T150000
DTEND;TZID=UTC:20200208T190000
DTSTAMP:20260422T103510
CREATED:20191204T141647Z
LAST-MODIFIED:20191204T141647Z
UID:1483-1581174000-1581188400@sv-gebelzig.de
SUMMARY:D-Jugend Budenzauber
DESCRIPTION:
URL:https://sv-gebelzig.de/index.php/event/d-jugend-budenzauber/
LOCATION:Sporthalle Bahnhofstraße\, Bahnhofstraße 2a\, Niesky\, 026906\, Deutschland
END:VEVENT
END:VCALENDAR