﻿BEGIN:VCALENDAR
VERSION:2.0
PRODID:-//SV-Gebelzig - ECPv5.3.1.1//NONSGML v1.0//EN
CALSCALE:GREGORIAN
METHOD:PUBLISH
X-WR-CALNAME:SV-Gebelzig
X-ORIGINAL-URL:https://sv-gebelzig.de
X-WR-CALDESC:Veranstaltungen für SV-Gebelzig
BEGIN:VTIMEZONE
TZID:UTC
BEGIN:STANDARD
TZOFFSETFROM:+0000
TZOFFSETTO:+0000
TZNAME:UTC
DTSTART:20190101T000000
END:STANDARD
END:VTIMEZONE
BEGIN:VEVENT
DTSTART;TZID=UTC:20191221T130000
DTEND;TZID=UTC:20191221T200000
DTSTAMP:20260422T131721
CREATED:20191205T083741Z
LAST-MODIFIED:20191205T083741Z
UID:1506-1576933200-1576958400@sv-gebelzig.de
SUMMARY:Norberts Sky Sportsbar
DESCRIPTION:2.Bundesliga/ 1.Bundesliga
URL:https://sv-gebelzig.de/index.php/event/norberts-sky-sportsbar-8/
LOCATION:Norberts Sky Bar\, Am Schloß\, 02906 Gebelzig\, Deutschland
END:VEVENT
END:VCALENDAR